BEGIN:VCALENDAR
VERSION:2.0
PRODID:-//centralmost.cz - ECPv6.0.6.2//NONSGML v1.0//EN
CALSCALE:GREGORIAN
METHOD:PUBLISH
X-ORIGINAL-URL:https://centralmost.cz
X-WR-CALDESC:Události pro  centralmost.cz
REFRESH-INTERVAL;VALUE=DURATION:PT1H
X-Robots-Tag:noindex
X-PUBLISHED-TTL:PT1H
BEGIN:VTIMEZONE
TZID:Europe/Prague
BEGIN:DAYLIGHT
TZOFFSETFROM:+0100
TZOFFSETTO:+0200
TZNAME:CEST
DTSTART:20260329T010000
END:DAYLIGHT
BEGIN:STANDARD
TZOFFSETFROM:+0200
TZOFFSETTO:+0100
TZNAME:CET
DTSTART:20261025T010000
END:STANDARD
END:VTIMEZONE
BEGIN:VEVENT
DTSTART;TZID=Europe/Prague:20260521T160000
DTEND;TZID=Europe/Prague:20260521T170000
DTSTAMP:20260425T152801
CREATED:20260415T054517Z
LAST-MODIFIED:20260422T065051Z
UID:10000093-1779379200-1779382800@centralmost.cz
SUMMARY:Hravá Angličtina
DESCRIPTION:Třetí kolo kurzu 14. 5. – 18. 6. 2026
URL:https://centralmost.cz/event/hrava-anglictina/2026-05-21/
CATEGORIES:Angličtina
ATTACH;FMTTYPE=image/png:https://centralmost.cz/app/uploads/sites/2/2026/04/CTR_anglictina_web-1024x1024px.png
END:VEVENT
BEGIN:VEVENT
DTSTART;TZID=Europe/Prague:20260521T160000
DTEND;TZID=Europe/Prague:20260521T170000
DTSTAMP:20260425T152801
CREATED:20260424T054558Z
LAST-MODIFIED:20260424T054558Z
UID:10000158-1779379200-1779382800@centralmost.cz
SUMMARY:Hravá angličtina
DESCRIPTION:Druhé kolo kurzu 2. 4. – 7. 5. 2026
URL:https://centralmost.cz/event/hrava-anglictina-2/2026-05-21/
CATEGORIES:Angličtina
ATTACH;FMTTYPE=image/png:https://centralmost.cz/app/uploads/sites/2/2026/04/CTR_anglictina_web-1024x1024px.png
END:VEVENT
BEGIN:VEVENT
DTSTART;TZID=Europe/Prague:20260525T170000
DTEND;TZID=Europe/Prague:20260525T180000
DTSTAMP:20260425T152801
CREATED:20260413T132201Z
LAST-MODIFIED:20260422T062959Z
UID:10000088-1779728400-1779732000@centralmost.cz
SUMMARY:Přednáška: Jižní Afrika
DESCRIPTION:Vyrazte na skutečné rodinné dobrodružství! Společně s manželi Vejříkovými a jejich dvěma neúnavnými průvodci – tříletou Viktorkou a šestiletým Matějem – prozkoumáme národní parky plné slonů\, kolonie hlučných lachtanů i roztomilé tučňáky.
URL:https://centralmost.cz/event/prednaska-jizni-afrika-od-oceanu-az-k-horam/
CATEGORIES:Cestovatelské přednášky
ATTACH;FMTTYPE=image/png:https://centralmost.cz/app/uploads/sites/2/2026/04/CTR-Cestovatelska-prednaska-web-prach-1024x1024px.png
END:VEVENT
BEGIN:VEVENT
DTSTART;TZID=Europe/Prague:20260528T160000
DTEND;TZID=Europe/Prague:20260528T170000
DTSTAMP:20260425T152801
CREATED:20260415T054517Z
LAST-MODIFIED:20260422T065051Z
UID:10000094-1779984000-1779987600@centralmost.cz
SUMMARY:Hravá Angličtina
DESCRIPTION:Třetí kolo kurzu 14. 5. – 18. 6. 2026
URL:https://centralmost.cz/event/hrava-anglictina/2026-05-28/
CATEGORIES:Angličtina
ATTACH;FMTTYPE=image/png:https://centralmost.cz/app/uploads/sites/2/2026/04/CTR_anglictina_web-1024x1024px.png
END:VEVENT
BEGIN:VEVENT
DTSTART;TZID=Europe/Prague:20260528T160000
DTEND;TZID=Europe/Prague:20260528T170000
DTSTAMP:20260425T152801
CREATED:20260424T054558Z
LAST-MODIFIED:20260424T054558Z
UID:10000159-1779984000-1779987600@centralmost.cz
SUMMARY:Hravá angličtina
DESCRIPTION:Druhé kolo kurzu 2. 4. – 7. 5. 2026
URL:https://centralmost.cz/event/hrava-anglictina-2/2026-05-28/
CATEGORIES:Angličtina
ATTACH;FMTTYPE=image/png:https://centralmost.cz/app/uploads/sites/2/2026/04/CTR_anglictina_web-1024x1024px.png
END:VEVENT
BEGIN:VEVENT
DTSTART;TZID=Europe/Prague:20260604T160000
DTEND;TZID=Europe/Prague:20260604T170000
DTSTAMP:20260425T152801
CREATED:20260415T054517Z
LAST-MODIFIED:20260422T065051Z
UID:10000095-1780588800-1780592400@centralmost.cz
SUMMARY:Hravá Angličtina
DESCRIPTION:Třetí kolo kurzu 14. 5. – 18. 6. 2026
URL:https://centralmost.cz/event/hrava-anglictina/2026-06-04/
CATEGORIES:Angličtina
ATTACH;FMTTYPE=image/png:https://centralmost.cz/app/uploads/sites/2/2026/04/CTR_anglictina_web-1024x1024px.png
END:VEVENT
BEGIN:VEVENT
DTSTART;TZID=Europe/Prague:20260604T160000
DTEND;TZID=Europe/Prague:20260604T170000
DTSTAMP:20260425T152801
CREATED:20260424T054558Z
LAST-MODIFIED:20260424T054558Z
UID:10000160-1780588800-1780592400@centralmost.cz
SUMMARY:Hravá angličtina
DESCRIPTION:Druhé kolo kurzu 2. 4. – 7. 5. 2026
URL:https://centralmost.cz/event/hrava-anglictina-2/2026-06-04/
CATEGORIES:Angličtina
ATTACH;FMTTYPE=image/png:https://centralmost.cz/app/uploads/sites/2/2026/04/CTR_anglictina_web-1024x1024px.png
END:VEVENT
BEGIN:VEVENT
DTSTART;TZID=Europe/Prague:20260611T160000
DTEND;TZID=Europe/Prague:20260611T170000
DTSTAMP:20260425T152801
CREATED:20260415T054517Z
LAST-MODIFIED:20260422T065051Z
UID:10000096-1781193600-1781197200@centralmost.cz
SUMMARY:Hravá Angličtina
DESCRIPTION:Třetí kolo kurzu 14. 5. – 18. 6. 2026
URL:https://centralmost.cz/event/hrava-anglictina/2026-06-11/
CATEGORIES:Angličtina
ATTACH;FMTTYPE=image/png:https://centralmost.cz/app/uploads/sites/2/2026/04/CTR_anglictina_web-1024x1024px.png
END:VEVENT
BEGIN:VEVENT
DTSTART;TZID=Europe/Prague:20260611T160000
DTEND;TZID=Europe/Prague:20260611T170000
DTSTAMP:20260425T152801
CREATED:20260424T054558Z
LAST-MODIFIED:20260424T054558Z
UID:10000161-1781193600-1781197200@centralmost.cz
SUMMARY:Hravá angličtina
DESCRIPTION:Druhé kolo kurzu 2. 4. – 7. 5. 2026
URL:https://centralmost.cz/event/hrava-anglictina-2/2026-06-11/
CATEGORIES:Angličtina
ATTACH;FMTTYPE=image/png:https://centralmost.cz/app/uploads/sites/2/2026/04/CTR_anglictina_web-1024x1024px.png
END:VEVENT
BEGIN:VEVENT
DTSTART;TZID=Europe/Prague:20260618T160000
DTEND;TZID=Europe/Prague:20260618T170000
DTSTAMP:20260425T152801
CREATED:20260415T054517Z
LAST-MODIFIED:20260422T065051Z
UID:10000097-1781798400-1781802000@centralmost.cz
SUMMARY:Hravá Angličtina
DESCRIPTION:Třetí kolo kurzu 14. 5. – 18. 6. 2026
URL:https://centralmost.cz/event/hrava-anglictina/2026-06-18/
CATEGORIES:Angličtina
ATTACH;FMTTYPE=image/png:https://centralmost.cz/app/uploads/sites/2/2026/04/CTR_anglictina_web-1024x1024px.png
END:VEVENT
BEGIN:VEVENT
DTSTART;TZID=Europe/Prague:20260618T160000
DTEND;TZID=Europe/Prague:20260618T170000
DTSTAMP:20260425T152801
CREATED:20260424T054558Z
LAST-MODIFIED:20260424T054558Z
UID:10000162-1781798400-1781802000@centralmost.cz
SUMMARY:Hravá angličtina
DESCRIPTION:Druhé kolo kurzu 2. 4. – 7. 5. 2026
URL:https://centralmost.cz/event/hrava-anglictina-2/2026-06-18/
CATEGORIES:Angličtina
ATTACH;FMTTYPE=image/png:https://centralmost.cz/app/uploads/sites/2/2026/04/CTR_anglictina_web-1024x1024px.png
END:VEVENT
BEGIN:VEVENT
DTSTART;TZID=Europe/Prague:20260625T160000
DTEND;TZID=Europe/Prague:20260625T170000
DTSTAMP:20260425T152801
CREATED:20260424T054558Z
LAST-MODIFIED:20260424T054558Z
UID:10000163-1782403200-1782406800@centralmost.cz
SUMMARY:Hravá angličtina
DESCRIPTION:Druhé kolo kurzu 2. 4. – 7. 5. 2026
URL:https://centralmost.cz/event/hrava-anglictina-2/2026-06-25/
CATEGORIES:Angličtina
ATTACH;FMTTYPE=image/png:https://centralmost.cz/app/uploads/sites/2/2026/04/CTR_anglictina_web-1024x1024px.png
END:VEVENT
BEGIN:VEVENT
DTSTART;TZID=Europe/Prague:20260629T170000
DTEND;TZID=Europe/Prague:20260629T183000
DTSTAMP:20260425T152801
CREATED:20260413T132446Z
LAST-MODIFIED:20260415T054149Z
UID:10000089-1782752400-1782757800@centralmost.cz
SUMMARY:Přednáška: Tajuplná Indonésie
DESCRIPTION:Červnové putování nás zavede do barevné Indonésie. Jana Wolfová\, která v této zemi strávila několik let\, vás provede od hinduistických chrámů na Bali až po divokou džungli na Sumatře\, kde budeme pátrat po orangutanech.
URL:https://centralmost.cz/event/prednaska-tajuplna-indonesie/
CATEGORIES:Cestovatelské přednášky
ATTACH;FMTTYPE=image/png:https://centralmost.cz/app/uploads/sites/2/2026/04/ctr-cestovateleprednasky-jordansko-web-1024x1024px-png_1775713343.png
END:VEVENT
BEGIN:VEVENT
DTSTART;TZID=Europe/Prague:20260702T160000
DTEND;TZID=Europe/Prague:20260702T170000
DTSTAMP:20260425T152801
CREATED:20260424T054558Z
LAST-MODIFIED:20260424T054558Z
UID:10000164-1783008000-1783011600@centralmost.cz
SUMMARY:Hravá angličtina
DESCRIPTION:Druhé kolo kurzu 2. 4. – 7. 5. 2026
URL:https://centralmost.cz/event/hrava-anglictina-2/2026-07-02/
CATEGORIES:Angličtina
ATTACH;FMTTYPE=image/png:https://centralmost.cz/app/uploads/sites/2/2026/04/CTR_anglictina_web-1024x1024px.png
END:VEVENT
BEGIN:VEVENT
DTSTART;TZID=Europe/Prague:20260709T160000
DTEND;TZID=Europe/Prague:20260709T170000
DTSTAMP:20260425T152801
CREATED:20260424T054558Z
LAST-MODIFIED:20260424T054558Z
UID:10000165-1783612800-1783616400@centralmost.cz
SUMMARY:Hravá angličtina
DESCRIPTION:Druhé kolo kurzu 2. 4. – 7. 5. 2026
URL:https://centralmost.cz/event/hrava-anglictina-2/2026-07-09/
CATEGORIES:Angličtina
ATTACH;FMTTYPE=image/png:https://centralmost.cz/app/uploads/sites/2/2026/04/CTR_anglictina_web-1024x1024px.png
END:VEVENT
BEGIN:VEVENT
DTSTART;TZID=Europe/Prague:20260716T160000
DTEND;TZID=Europe/Prague:20260716T170000
DTSTAMP:20260425T152801
CREATED:20260424T054558Z
LAST-MODIFIED:20260424T054558Z
UID:10000166-1784217600-1784221200@centralmost.cz
SUMMARY:Hravá angličtina
DESCRIPTION:Druhé kolo kurzu 2. 4. – 7. 5. 2026
URL:https://centralmost.cz/event/hrava-anglictina-2/2026-07-16/
CATEGORIES:Angličtina
ATTACH;FMTTYPE=image/png:https://centralmost.cz/app/uploads/sites/2/2026/04/CTR_anglictina_web-1024x1024px.png
END:VEVENT
BEGIN:VEVENT
DTSTART;TZID=Europe/Prague:20260723T160000
DTEND;TZID=Europe/Prague:20260723T170000
DTSTAMP:20260425T152801
CREATED:20260424T054558Z
LAST-MODIFIED:20260424T054558Z
UID:10000167-1784822400-1784826000@centralmost.cz
SUMMARY:Hravá angličtina
DESCRIPTION:Druhé kolo kurzu 2. 4. – 7. 5. 2026
URL:https://centralmost.cz/event/hrava-anglictina-2/2026-07-23/
CATEGORIES:Angličtina
ATTACH;FMTTYPE=image/png:https://centralmost.cz/app/uploads/sites/2/2026/04/CTR_anglictina_web-1024x1024px.png
END:VEVENT
BEGIN:VEVENT
DTSTART;TZID=Europe/Prague:20260730T160000
DTEND;TZID=Europe/Prague:20260730T170000
DTSTAMP:20260425T152801
CREATED:20260424T054558Z
LAST-MODIFIED:20260424T054558Z
UID:10000168-1785427200-1785430800@centralmost.cz
SUMMARY:Hravá angličtina
DESCRIPTION:Druhé kolo kurzu 2. 4. – 7. 5. 2026
URL:https://centralmost.cz/event/hrava-anglictina-2/2026-07-30/
CATEGORIES:Angličtina
ATTACH;FMTTYPE=image/png:https://centralmost.cz/app/uploads/sites/2/2026/04/CTR_anglictina_web-1024x1024px.png
END:VEVENT
BEGIN:VEVENT
DTSTART;TZID=Europe/Prague:20260806T160000
DTEND;TZID=Europe/Prague:20260806T170000
DTSTAMP:20260425T152801
CREATED:20260424T054558Z
LAST-MODIFIED:20260424T054558Z
UID:10000169-1786032000-1786035600@centralmost.cz
SUMMARY:Hravá angličtina
DESCRIPTION:Druhé kolo kurzu 2. 4. – 7. 5. 2026
URL:https://centralmost.cz/event/hrava-anglictina-2/2026-08-06/
CATEGORIES:Angličtina
ATTACH;FMTTYPE=image/png:https://centralmost.cz/app/uploads/sites/2/2026/04/CTR_anglictina_web-1024x1024px.png
END:VEVENT
BEGIN:VEVENT
DTSTART;TZID=Europe/Prague:20260813T160000
DTEND;TZID=Europe/Prague:20260813T170000
DTSTAMP:20260425T152801
CREATED:20260424T054558Z
LAST-MODIFIED:20260424T054558Z
UID:10000170-1786636800-1786640400@centralmost.cz
SUMMARY:Hravá angličtina
DESCRIPTION:Druhé kolo kurzu 2. 4. – 7. 5. 2026
URL:https://centralmost.cz/event/hrava-anglictina-2/2026-08-13/
CATEGORIES:Angličtina
ATTACH;FMTTYPE=image/png:https://centralmost.cz/app/uploads/sites/2/2026/04/CTR_anglictina_web-1024x1024px.png
END:VEVENT
BEGIN:VEVENT
DTSTART;TZID=Europe/Prague:20260820T160000
DTEND;TZID=Europe/Prague:20260820T170000
DTSTAMP:20260425T152801
CREATED:20260424T054558Z
LAST-MODIFIED:20260424T054558Z
UID:10000171-1787241600-1787245200@centralmost.cz
SUMMARY:Hravá angličtina
DESCRIPTION:Druhé kolo kurzu 2. 4. – 7. 5. 2026
URL:https://centralmost.cz/event/hrava-anglictina-2/2026-08-20/
CATEGORIES:Angličtina
ATTACH;FMTTYPE=image/png:https://centralmost.cz/app/uploads/sites/2/2026/04/CTR_anglictina_web-1024x1024px.png
END:VEVENT
BEGIN:VEVENT
DTSTART;TZID=Europe/Prague:20260827T160000
DTEND;TZID=Europe/Prague:20260827T170000
DTSTAMP:20260425T152801
CREATED:20260424T054558Z
LAST-MODIFIED:20260424T054558Z
UID:10000172-1787846400-1787850000@centralmost.cz
SUMMARY:Hravá angličtina
DESCRIPTION:Druhé kolo kurzu 2. 4. – 7. 5. 2026
URL:https://centralmost.cz/event/hrava-anglictina-2/2026-08-27/
CATEGORIES:Angličtina
ATTACH;FMTTYPE=image/png:https://centralmost.cz/app/uploads/sites/2/2026/04/CTR_anglictina_web-1024x1024px.png
END:VEVENT
BEGIN:VEVENT
DTSTART;TZID=Europe/Prague:20260903T160000
DTEND;TZID=Europe/Prague:20260903T170000
DTSTAMP:20260425T152801
CREATED:20260424T054558Z
LAST-MODIFIED:20260424T054558Z
UID:10000173-1788451200-1788454800@centralmost.cz
SUMMARY:Hravá angličtina
DESCRIPTION:Druhé kolo kurzu 2. 4. – 7. 5. 2026
URL:https://centralmost.cz/event/hrava-anglictina-2/2026-09-03/
CATEGORIES:Angličtina
ATTACH;FMTTYPE=image/png:https://centralmost.cz/app/uploads/sites/2/2026/04/CTR_anglictina_web-1024x1024px.png
END:VEVENT
BEGIN:VEVENT
DTSTART;TZID=Europe/Prague:20260910T160000
DTEND;TZID=Europe/Prague:20260910T170000
DTSTAMP:20260425T152801
CREATED:20260424T054558Z
LAST-MODIFIED:20260424T054558Z
UID:10000174-1789056000-1789059600@centralmost.cz
SUMMARY:Hravá angličtina
DESCRIPTION:Druhé kolo kurzu 2. 4. – 7. 5. 2026
URL:https://centralmost.cz/event/hrava-anglictina-2/2026-09-10/
CATEGORIES:Angličtina
ATTACH;FMTTYPE=image/png:https://centralmost.cz/app/uploads/sites/2/2026/04/CTR_anglictina_web-1024x1024px.png
END:VEVENT
BEGIN:VEVENT
DTSTART;TZID=Europe/Prague:20260917T160000
DTEND;TZID=Europe/Prague:20260917T170000
DTSTAMP:20260425T152801
CREATED:20260424T054558Z
LAST-MODIFIED:20260424T054558Z
UID:10000175-1789660800-1789664400@centralmost.cz
SUMMARY:Hravá angličtina
DESCRIPTION:Druhé kolo kurzu 2. 4. – 7. 5. 2026
URL:https://centralmost.cz/event/hrava-anglictina-2/2026-09-17/
CATEGORIES:Angličtina
ATTACH;FMTTYPE=image/png:https://centralmost.cz/app/uploads/sites/2/2026/04/CTR_anglictina_web-1024x1024px.png
END:VEVENT
BEGIN:VEVENT
DTSTART;TZID=Europe/Prague:20260924T160000
DTEND;TZID=Europe/Prague:20260924T170000
DTSTAMP:20260425T152801
CREATED:20260424T054558Z
LAST-MODIFIED:20260424T054558Z
UID:10000176-1790265600-1790269200@centralmost.cz
SUMMARY:Hravá angličtina
DESCRIPTION:Druhé kolo kurzu 2. 4. – 7. 5. 2026
URL:https://centralmost.cz/event/hrava-anglictina-2/2026-09-24/
CATEGORIES:Angličtina
ATTACH;FMTTYPE=image/png:https://centralmost.cz/app/uploads/sites/2/2026/04/CTR_anglictina_web-1024x1024px.png
END:VEVENT
BEGIN:VEVENT
DTSTART;TZID=Europe/Prague:20261001T080000
DTEND;TZID=Europe/Prague:20261001T170000
DTSTAMP:20260425T152801
CREATED:20260422T061759Z
LAST-MODIFIED:20260422T061759Z
UID:10000150-1790841600-1790874000@centralmost.cz
SUMMARY:Fyzio test
DESCRIPTION:test fyzio
URL:https://centralmost.cz/event/fyzio-test/
CATEGORIES:Fyzioterapie
ATTACH;FMTTYPE=image/png:https://centralmost.cz/app/uploads/sites/2/2026/04/CTR-Cestovatelska-prednaska-web-prach-1024x1024px.png
END:VEVENT
BEGIN:VEVENT
DTSTART;TZID=Europe/Prague:20261001T160000
DTEND;TZID=Europe/Prague:20261001T170000
DTSTAMP:20260425T152801
CREATED:20260424T054558Z
LAST-MODIFIED:20260424T054558Z
UID:10000177-1790870400-1790874000@centralmost.cz
SUMMARY:Hravá angličtina
DESCRIPTION:Druhé kolo kurzu 2. 4. – 7. 5. 2026
URL:https://centralmost.cz/event/hrava-anglictina-2/2026-10-01/
CATEGORIES:Angličtina
ATTACH;FMTTYPE=image/png:https://centralmost.cz/app/uploads/sites/2/2026/04/CTR_anglictina_web-1024x1024px.png
END:VEVENT
BEGIN:VEVENT
DTSTART;TZID=Europe/Prague:20261008T160000
DTEND;TZID=Europe/Prague:20261008T170000
DTSTAMP:20260425T152801
CREATED:20260424T054558Z
LAST-MODIFIED:20260424T054558Z
UID:10000178-1791475200-1791478800@centralmost.cz
SUMMARY:Hravá angličtina
DESCRIPTION:Druhé kolo kurzu 2. 4. – 7. 5. 2026
URL:https://centralmost.cz/event/hrava-anglictina-2/2026-10-08/
CATEGORIES:Angličtina
ATTACH;FMTTYPE=image/png:https://centralmost.cz/app/uploads/sites/2/2026/04/CTR_anglictina_web-1024x1024px.png
END:VEVENT
BEGIN:VEVENT
DTSTART;TZID=Europe/Prague:20261015T160000
DTEND;TZID=Europe/Prague:20261015T170000
DTSTAMP:20260425T152801
CREATED:20260424T054558Z
LAST-MODIFIED:20260424T054558Z
UID:10000179-1792080000-1792083600@centralmost.cz
SUMMARY:Hravá angličtina
DESCRIPTION:Druhé kolo kurzu 2. 4. – 7. 5. 2026
URL:https://centralmost.cz/event/hrava-anglictina-2/2026-10-15/
CATEGORIES:Angličtina
ATTACH;FMTTYPE=image/png:https://centralmost.cz/app/uploads/sites/2/2026/04/CTR_anglictina_web-1024x1024px.png
END:VEVENT
END:VCALENDAR