BEGIN:VCALENDAR
VERSION:2.0
PRODID:-//centralmost.cz - ECPv6.0.6.2//NONSGML v1.0//EN
CALSCALE:GREGORIAN
METHOD:PUBLISH
X-WR-CALNAME:centralmost.cz
X-ORIGINAL-URL:https://centralmost.cz
X-WR-CALDESC:Události pro  centralmost.cz
REFRESH-INTERVAL;VALUE=DURATION:PT1H
X-Robots-Tag:noindex
X-PUBLISHED-TTL:PT1H
BEGIN:VTIMEZONE
TZID:Europe/Prague
BEGIN:DAYLIGHT
TZOFFSETFROM:+0100
TZOFFSETTO:+0200
TZNAME:CEST
DTSTART:20250330T010000
END:DAYLIGHT
BEGIN:STANDARD
TZOFFSETFROM:+0200
TZOFFSETTO:+0100
TZNAME:CET
DTSTART:20251026T010000
END:STANDARD
BEGIN:DAYLIGHT
TZOFFSETFROM:+0100
TZOFFSETTO:+0200
TZNAME:CEST
DTSTART:20260329T010000
END:DAYLIGHT
BEGIN:STANDARD
TZOFFSETFROM:+0200
TZOFFSETTO:+0100
TZNAME:CET
DTSTART:20261025T010000
END:STANDARD
END:VTIMEZONE
BEGIN:VEVENT
DTSTART;VALUE=DATE:20251114
DTEND;VALUE=DATE:20251215
DTSTAMP:20260425T121711
CREATED:20251110T100549Z
LAST-MODIFIED:20251211T094751Z
UID:10000071-1763078400-1765756799@centralmost.cz
SUMMARY:Strom splněných přání pro seniory
DESCRIPTION:Sbírka dárků pro oslovené mostecké seniory.
URL:https://centralmost.cz/event/strom-splnenych-prani-pro-seniory/
LOCATION:OC Central Most\, Radniční 3400\, Most\, Ústecký kraj\, 43401\, Czech Republic
ATTACH;FMTTYPE=image/jpeg:https://centralmost.cz/app/uploads/sites/2/2025/11/stromprani-gold.jpg
END:VEVENT
BEGIN:VEVENT
DTSTART;TZID=Europe/Prague:20251114T160000
DTEND;TZID=Europe/Prague:20251114T180000
DTSTAMP:20260425T121711
CREATED:20251103T075530Z
LAST-MODIFIED:20251110T100256Z
UID:10000070-1763136000-1763143200@centralmost.cz
SUMMARY:Rozsvícení vánočního stromečku v Centralu
DESCRIPTION:Jako každý rok přichází to nejkrásnější období z celého roku. Hřejivé Vánoce zahájíme v Centralu už v pátek 14. listopadu! Pro děti i dospělé bude připraven bohatý doprovodný program s mezinárodní hvězdou. Akci odmoderuje naše oblíbená Markéta Sochorová. „Chceme našim zákazníkům nabídnout něco speciálního a vytvořit nezapomenutelnou atmosféru. Proto jsme i letos připravili rozsvícení vánočního stromečku se zlatým hřebem večera – koncertem Mariána Vojtka\,” říká Martin Malý\, ředitel marketingu a komunikace společnosti EPG Group\, která vlastní Central. Po loutkovém představení od mosteckého Divadla Rozmanitosti slavnostně rozsvítíme vánoční stromeček. Přijdou ti nejpovolanější – primátor města\, Marek Hrvol\, společně s ředitelem centra\, Martinem Koštířem\, a náměstkyní Markétou Starou.
URL:https://centralmost.cz/event/hrejive-vanoce-v-centralu-rozsviceni-stromecku/
LOCATION:OC Central Most\, Radniční 3400\, Most\, Ústecký kraj\, 43401\, Czech Republic
ATTACH;FMTTYPE=image/png:https://centralmost.cz/app/uploads/sites/2/2025/11/1024x1024px_CTR_web_rozsviceni_stromku.png
END:VEVENT
BEGIN:VEVENT
DTSTART;VALUE=DATE:20251129
DTEND;VALUE=DATE:20251224
DTSTAMP:20260425T121711
CREATED:20251211T100800Z
LAST-MODIFIED:20251211T101907Z
UID:10000075-1764374400-1766534399@centralmost.cz
SUMMARY:Vánoční stánky
DESCRIPTION:Vánoční stánky uvnitř OC s rozličným výběrem vánočních dárků a dekorací.
URL:https://centralmost.cz/event/vanocni-stanky/
LOCATION:OC Central Most\, Radniční 3400\, Most\, Ústecký kraj\, 43401\, Czech Republic
ATTACH;FMTTYPE=image/jpeg:https://centralmost.cz/app/uploads/sites/2/2025/11/stanky-gold.jpg
END:VEVENT
BEGIN:VEVENT
DTSTART;TZID=Europe/Prague:20251206T160000
DTEND;TZID=Europe/Prague:20251206T180000
DTSTAMP:20260425T121711
CREATED:20251110T100804Z
LAST-MODIFIED:20251110T100804Z
UID:10000072-1765036800-1765044000@centralmost.cz
SUMMARY:Mikulášská nadílka v Centralu
DESCRIPTION:
URL:https://centralmost.cz/event/mikulasska-nadilka-v-centralu/
LOCATION:OC Central Most\, Radniční 3400\, Most\, Ústecký kraj\, 43401\, Czech Republic
ATTACH;FMTTYPE=image/png:https://centralmost.cz/app/uploads/sites/2/2024/11/mikulaska.png
END:VEVENT
BEGIN:VEVENT
DTSTART;VALUE=DATE:20251208
DTEND;VALUE=DATE:20251224
DTSTAMP:20260425T121711
CREATED:20251208T102138Z
LAST-MODIFIED:20251211T102920Z
UID:10000076-1765152000-1766534399@centralmost.cz
SUMMARY:Prodej stromků
DESCRIPTION:Prodej vánočních stromků na 1. náměstí
URL:https://centralmost.cz/event/prodej-stromku/
LOCATION:OC Central Most\, Radniční 3400\, Most\, Ústecký kraj\, 43401\, Czech Republic
ATTACH;FMTTYPE=image/jpeg:https://centralmost.cz/app/uploads/sites/2/2025/11/stromky-gold-1.jpg
END:VEVENT
BEGIN:VEVENT
DTSTART;TZID=Europe/Prague:20251218T150000
DTEND;TZID=Europe/Prague:20251218T170000
DTSTAMP:20260425T121711
CREATED:20251211T133038Z
LAST-MODIFIED:20251211T133038Z
UID:10000077-1766070000-1766077200@centralmost.cz
SUMMARY:Vánoční kolo štěstí
DESCRIPTION:
URL:https://centralmost.cz/event/vanocni-kolo-stesti/
LOCATION:OC Central Most\, Radniční 3400\, Most\, Ústecký kraj\, 43401\, Czech Republic
ATTACH;FMTTYPE=image/jpeg:https://centralmost.cz/app/uploads/sites/2/2025/11/kolo-gold-1.jpg
END:VEVENT
BEGIN:VEVENT
DTSTART;TZID=Europe/Prague:20251219T090000
DTEND;TZID=Europe/Prague:20251223T170000
DTSTAMP:20260425T121711
CREATED:20251110T102116Z
LAST-MODIFIED:20251211T094312Z
UID:10000074-1766134800-1766509200@centralmost.cz
SUMMARY:Balení vánočních dárků v Centralu
DESCRIPTION:Tradiční pomoc při balení vánočních dárků\, zakoupených v OC Central.
URL:https://centralmost.cz/event/baleni-darku-v-centralu/
LOCATION:OC Central Most\, Radniční 3400\, Most\, Ústecký kraj\, 43401\, Czech Republic
ATTACH;FMTTYPE=image/jpeg:https://centralmost.cz/app/uploads/sites/2/2025/11/darky-gold.jpg
END:VEVENT
BEGIN:VEVENT
DTSTART;VALUE=DATE:20260214
DTEND;VALUE=DATE:20260215
DTSTAMP:20260425T121711
CREATED:20260109T135018Z
LAST-MODIFIED:20260109T135018Z
UID:10000078-1771027200-1771113599@centralmost.cz
SUMMARY:Láska chutná nejlépe ve dvou
DESCRIPTION:Valentýn v Centralu. Rozdáváme růže a čokolády a soutěžíme o valentýnskou večeři pro dva.
URL:https://centralmost.cz/event/laska-chutna-nejlepe-ve-dvou/
ATTACH;FMTTYPE=image/jpeg:https://centralmost.cz/app/uploads/sites/2/2026/01/valentyn.jpg
END:VEVENT
BEGIN:VEVENT
DTSTART;TZID=Europe/Prague:20260325T170000
DTEND;TZID=Europe/Prague:20260325T180000
DTSTAMP:20260425T121711
CREATED:20260226T101810Z
LAST-MODIFIED:20260226T102625Z
UID:10000082-1774458000-1774461600@centralmost.cz
SUMMARY:Přednáška: Panorama starého Mostecka
DESCRIPTION:Historik Jan Setvák z projektu Panoráma starého Mostecka realizovaný Oblastním muzeem a galerií v Mostě vás v prostoru C-Zóny zasvětí do tajů dobové fotografie. Těšit se můžete na poutavé promítání snímků\, které zachycují město v jeho nejlepších letech.
URL:https://centralmost.cz/event/prednaska-panorama-stareho-mostecka/
ATTACH;FMTTYPE=image/jpeg:https://centralmost.cz/app/uploads/sites/2/2026/02/Untitled-1.jpg
END:VEVENT
BEGIN:VEVENT
DTSTART;TZID=Europe/Prague:20260330T170000
DTEND;TZID=Europe/Prague:20260330T180000
DTSTAMP:20260425T121711
CREATED:20260218T131541Z
LAST-MODIFIED:20260226T102525Z
UID:10000080-1774890000-1774893600@centralmost.cz
SUMMARY:Přednáška: Azory a Madeira
DESCRIPTION:Už v pondělí 30. března v 17:00 startujeme v Centralu nový cyklus cestovatelských přednášek. První zastávkou budou pod vedením cestovatelů Karla a Jany Wolfových dechberoucí ostrovy v Atlantiku.
URL:https://centralmost.cz/event/azory-a-madeira-prednaska-v-centralu-zdarma/
ATTACH;FMTTYPE=image/webp:https://centralmost.cz/app/uploads/sites/2/2026/02/CTR-Cestovatelska-prednaska-web-prach-1024x1024px.webp
END:VEVENT
BEGIN:VEVENT
DTSTART;TZID=Europe/Prague:20260331T160000
DTEND;TZID=Europe/Prague:20260331T180000
DTSTAMP:20260425T121711
CREATED:20260331T070126Z
LAST-MODIFIED:20260331T070202Z
UID:10000083-1774972800-1774980000@centralmost.cz
SUMMARY:Rodinné Velikonoce v Centralu
DESCRIPTION:Přijďte si s dětmi užít veselé velikonoční zpívání\, říkanky a tanec. Čeká nás interaktivní program plný jarních tradic a živé hudby v podání herců Městského divadla v Mostě.
URL:https://centralmost.cz/event/rodinne-velikonoce-v-centralu/
ATTACH;FMTTYPE=image/png:https://centralmost.cz/app/uploads/sites/2/2026/02/ctr-velikonoce-web-1024x1024px-png_1772014352.png
END:VEVENT
BEGIN:VEVENT
DTSTART;TZID=Europe/Prague:20260402T160000
DTEND;TZID=Europe/Prague:20260402T170000
DTSTAMP:20260425T121711
CREATED:20260424T054558Z
LAST-MODIFIED:20260424T054558Z
UID:10000151-1775145600-1775149200@centralmost.cz
SUMMARY:Hravá angličtina
DESCRIPTION:Druhé kolo kurzu 2. 4. – 7. 5. 2026
URL:https://centralmost.cz/event/hrava-anglictina-2/2026-04-02/
CATEGORIES:Angličtina
ATTACH;FMTTYPE=image/png:https://centralmost.cz/app/uploads/sites/2/2026/04/CTR_anglictina_web-1024x1024px.png
END:VEVENT
BEGIN:VEVENT
DTSTART;TZID=Europe/Prague:20260402T180000
DTEND;TZID=Europe/Prague:20260402T200000
DTSTAMP:20260425T121711
CREATED:20260320T125047Z
LAST-MODIFIED:20260320T125047Z
UID:10000084-1775152800-1775160000@centralmost.cz
SUMMARY:Chytrý Kvíz v GO CAFE
DESCRIPTION:Máte rádi napětí\, dobrou společnost a chcete si vyzkoušet\, co všechno nosíte v hlavě? Máme pro vás skvělou zprávu! V oblíbené kavárně GO CAFE v Centralu začínáme novou tradici. Od čtvrtka 2. dubna 2026 se můžete těšit na pravidelné večery plné zábavy s fenoménem zvaným Chytrý Kvíz.
URL:https://centralmost.cz/event/chytry-kviz-v-go-cafe/
ATTACH;FMTTYPE=image/png:https://centralmost.cz/app/uploads/sites/2/2026/03/ctr-kviz-web-1024x1024px-png_1774010602.png
END:VEVENT
BEGIN:VEVENT
DTSTART;TZID=Europe/Prague:20260409T160000
DTEND;TZID=Europe/Prague:20260409T170000
DTSTAMP:20260425T121711
CREATED:20260424T054558Z
LAST-MODIFIED:20260424T054558Z
UID:10000152-1775750400-1775754000@centralmost.cz
SUMMARY:Hravá angličtina
DESCRIPTION:Druhé kolo kurzu 2. 4. – 7. 5. 2026
URL:https://centralmost.cz/event/hrava-anglictina-2/2026-04-09/
CATEGORIES:Angličtina
ATTACH;FMTTYPE=image/png:https://centralmost.cz/app/uploads/sites/2/2026/04/CTR_anglictina_web-1024x1024px.png
END:VEVENT
BEGIN:VEVENT
DTSTART;TZID=Europe/Prague:20260415T090000
DTEND;TZID=Europe/Prague:20260415T170000
DTSTAMP:20260425T121711
CREATED:20260331T070729Z
LAST-MODIFIED:20260331T070917Z
UID:10000086-1776243600-1776272400@centralmost.cz
SUMMARY:Den zdraví v Centralu: Pečujte o sebe
DESCRIPTION:Chcete spojit dobrý skutek s péčí o vlastní kondici? Přijďte v pondělí 15. dubna od 9:00 do 17:00 na náměstíčko Centralu a prožijte den věnovaný prevenci\, sportu i tématům\, která jsou pro naši vitalitu klíčová. Můžete se těšit na diagnostiku těla s BioLife plazma centrem. Můžete využít jedinečnou možnost nechat si změřit složení těla na moderním bioimpedančním analýzéru.
URL:https://centralmost.cz/event/den-zdravi-v-centralu-pecujte-o-sebe/
ATTACH;FMTTYPE=image/png:https://centralmost.cz/app/uploads/sites/2/2026/03/3.png
END:VEVENT
BEGIN:VEVENT
DTSTART;TZID=Europe/Prague:20260416T160000
DTEND;TZID=Europe/Prague:20260416T170000
DTSTAMP:20260425T121711
CREATED:20260424T054558Z
LAST-MODIFIED:20260424T054558Z
UID:10000153-1776355200-1776358800@centralmost.cz
SUMMARY:Hravá angličtina
DESCRIPTION:Druhé kolo kurzu 2. 4. – 7. 5. 2026
URL:https://centralmost.cz/event/hrava-anglictina-2/2026-04-16/
CATEGORIES:Angličtina
ATTACH;FMTTYPE=image/png:https://centralmost.cz/app/uploads/sites/2/2026/04/CTR_anglictina_web-1024x1024px.png
END:VEVENT
BEGIN:VEVENT
DTSTART;TZID=Europe/Prague:20260417T090000
DTEND;TZID=Europe/Prague:20260419T170000
DTSTAMP:20260425T121711
CREATED:20260413T141103Z
LAST-MODIFIED:20260413T141103Z
UID:10000090-1776416400-1776618000@centralmost.cz
SUMMARY:Mystery Boxy v Centralu
DESCRIPTION:Máte rádi překvapení a ten nezaměnitelný pocit napětí\, když rozbalujete dárek a netušíte\, co se skrývá pod obalem? Pak si tuhle akci v Centralu nesmíte nechat ujít!
URL:https://centralmost.cz/event/mystery-boxy-v-centralu/
ATTACH;FMTTYPE=image/png:https://centralmost.cz/app/uploads/sites/2/2026/03/ctr-mysterybox-web-1024x1024px-png_1773235653.png
END:VEVENT
BEGIN:VEVENT
DTSTART;TZID=Europe/Prague:20260423T160000
DTEND;TZID=Europe/Prague:20260423T170000
DTSTAMP:20260425T121711
CREATED:20260424T054558Z
LAST-MODIFIED:20260424T054558Z
UID:10000154-1776960000-1776963600@centralmost.cz
SUMMARY:Hravá angličtina
DESCRIPTION:Druhé kolo kurzu 2. 4. – 7. 5. 2026
URL:https://centralmost.cz/event/hrava-anglictina-2/2026-04-23/
CATEGORIES:Angličtina
ATTACH;FMTTYPE=image/png:https://centralmost.cz/app/uploads/sites/2/2026/04/CTR_anglictina_web-1024x1024px.png
END:VEVENT
BEGIN:VEVENT
DTSTART;TZID=Europe/Prague:20260426T100000
DTEND;TZID=Europe/Prague:20260426T170000
DTSTAMP:20260425T121711
CREATED:20260324T113840Z
LAST-MODIFIED:20260327T143046Z
UID:10000085-1777197600-1777222800@centralmost.cz
SUMMARY:Pokémoni v Centralu
DESCRIPTION:26. 4. vás čekají soutěže\, kvízy\, hry a další atrakce s Pokémony. Moderuje Jan Solfork!
URL:https://centralmost.cz/event/pokemoni-v-centralu/
ATTACH;FMTTYPE=image/png:https://centralmost.cz/app/uploads/sites/2/2026/03/VAR-Pokemoni-web-1024x1024px.png
END:VEVENT
BEGIN:VEVENT
DTSTART;TZID=Europe/Prague:20260427T170000
DTEND;TZID=Europe/Prague:20260427T183000
DTSTAMP:20260425T121711
CREATED:20260413T132043Z
LAST-MODIFIED:20260422T063013Z
UID:10000087-1777309200-1777314600@centralmost.cz
SUMMARY:Přednáška: Jordánsko
DESCRIPTION:Poznejte Jordánské království\, jeden z mála bezpečných koutů Blízkého východu\, kde se doslova dotknete lidských dějin. S Petrem Blahušem navštívíme místa vytesaná do ohnivě rudých skal a vydáme se po stopách Mojžíše i křižáckých rytířů v pevnostech Šóbak a Kérak.
URL:https://centralmost.cz/event/prednaska-jordansko-vic-nez-jen-poust/
CATEGORIES:Cestovatelské přednášky
ATTACH;FMTTYPE=image/png:https://centralmost.cz/app/uploads/sites/2/2026/04/ctr-cestovateleprednasky-jordansko-web-1024x1024px-png_1775713343.png
END:VEVENT
BEGIN:VEVENT
DTSTART;TZID=Europe/Prague:20260430T160000
DTEND;TZID=Europe/Prague:20260430T170000
DTSTAMP:20260425T121711
CREATED:20260424T054558Z
LAST-MODIFIED:20260424T054558Z
UID:10000155-1777564800-1777568400@centralmost.cz
SUMMARY:Hravá angličtina
DESCRIPTION:Druhé kolo kurzu 2. 4. – 7. 5. 2026
URL:https://centralmost.cz/event/hrava-anglictina-2/2026-04-30/
CATEGORIES:Angličtina
ATTACH;FMTTYPE=image/png:https://centralmost.cz/app/uploads/sites/2/2026/04/CTR_anglictina_web-1024x1024px.png
END:VEVENT
BEGIN:VEVENT
DTSTART;TZID=Europe/Prague:20260507T160000
DTEND;TZID=Europe/Prague:20260507T170000
DTSTAMP:20260425T121711
CREATED:20260424T054558Z
LAST-MODIFIED:20260424T054558Z
UID:10000156-1778169600-1778173200@centralmost.cz
SUMMARY:Hravá angličtina
DESCRIPTION:Druhé kolo kurzu 2. 4. – 7. 5. 2026
URL:https://centralmost.cz/event/hrava-anglictina-2/2026-05-07/
CATEGORIES:Angličtina
ATTACH;FMTTYPE=image/png:https://centralmost.cz/app/uploads/sites/2/2026/04/CTR_anglictina_web-1024x1024px.png
END:VEVENT
BEGIN:VEVENT
DTSTART;TZID=Europe/Prague:20260514T160000
DTEND;TZID=Europe/Prague:20260514T170000
DTSTAMP:20260425T121711
CREATED:20260415T054517Z
LAST-MODIFIED:20260422T065051Z
UID:10000092-1778774400-1778778000@centralmost.cz
SUMMARY:Hravá Angličtina
DESCRIPTION:Třetí kolo kurzu 14. 5. – 18. 6. 2026
URL:https://centralmost.cz/event/hrava-anglictina/2026-05-14/
CATEGORIES:Angličtina
ATTACH;FMTTYPE=image/png:https://centralmost.cz/app/uploads/sites/2/2026/04/CTR_anglictina_web-1024x1024px.png
END:VEVENT
BEGIN:VEVENT
DTSTART;TZID=Europe/Prague:20260514T160000
DTEND;TZID=Europe/Prague:20260514T170000
DTSTAMP:20260425T121711
CREATED:20260424T054558Z
LAST-MODIFIED:20260424T054558Z
UID:10000157-1778774400-1778778000@centralmost.cz
SUMMARY:Hravá angličtina
DESCRIPTION:Druhé kolo kurzu 2. 4. – 7. 5. 2026
URL:https://centralmost.cz/event/hrava-anglictina-2/2026-05-14/
CATEGORIES:Angličtina
ATTACH;FMTTYPE=image/png:https://centralmost.cz/app/uploads/sites/2/2026/04/CTR_anglictina_web-1024x1024px.png
END:VEVENT
BEGIN:VEVENT
DTSTART;TZID=Europe/Prague:20260521T160000
DTEND;TZID=Europe/Prague:20260521T170000
DTSTAMP:20260425T121711
CREATED:20260415T054517Z
LAST-MODIFIED:20260422T065051Z
UID:10000093-1779379200-1779382800@centralmost.cz
SUMMARY:Hravá Angličtina
DESCRIPTION:Třetí kolo kurzu 14. 5. – 18. 6. 2026
URL:https://centralmost.cz/event/hrava-anglictina/2026-05-21/
CATEGORIES:Angličtina
ATTACH;FMTTYPE=image/png:https://centralmost.cz/app/uploads/sites/2/2026/04/CTR_anglictina_web-1024x1024px.png
END:VEVENT
BEGIN:VEVENT
DTSTART;TZID=Europe/Prague:20260521T160000
DTEND;TZID=Europe/Prague:20260521T170000
DTSTAMP:20260425T121711
CREATED:20260424T054558Z
LAST-MODIFIED:20260424T054558Z
UID:10000158-1779379200-1779382800@centralmost.cz
SUMMARY:Hravá angličtina
DESCRIPTION:Druhé kolo kurzu 2. 4. – 7. 5. 2026
URL:https://centralmost.cz/event/hrava-anglictina-2/2026-05-21/
CATEGORIES:Angličtina
ATTACH;FMTTYPE=image/png:https://centralmost.cz/app/uploads/sites/2/2026/04/CTR_anglictina_web-1024x1024px.png
END:VEVENT
BEGIN:VEVENT
DTSTART;TZID=Europe/Prague:20260525T170000
DTEND;TZID=Europe/Prague:20260525T180000
DTSTAMP:20260425T121711
CREATED:20260413T132201Z
LAST-MODIFIED:20260422T062959Z
UID:10000088-1779728400-1779732000@centralmost.cz
SUMMARY:Přednáška: Jižní Afrika
DESCRIPTION:Vyrazte na skutečné rodinné dobrodružství! Společně s manželi Vejříkovými a jejich dvěma neúnavnými průvodci – tříletou Viktorkou a šestiletým Matějem – prozkoumáme národní parky plné slonů\, kolonie hlučných lachtanů i roztomilé tučňáky.
URL:https://centralmost.cz/event/prednaska-jizni-afrika-od-oceanu-az-k-horam/
CATEGORIES:Cestovatelské přednášky
ATTACH;FMTTYPE=image/png:https://centralmost.cz/app/uploads/sites/2/2026/04/CTR-Cestovatelska-prednaska-web-prach-1024x1024px.png
END:VEVENT
BEGIN:VEVENT
DTSTART;TZID=Europe/Prague:20260528T160000
DTEND;TZID=Europe/Prague:20260528T170000
DTSTAMP:20260425T121711
CREATED:20260415T054517Z
LAST-MODIFIED:20260422T065051Z
UID:10000094-1779984000-1779987600@centralmost.cz
SUMMARY:Hravá Angličtina
DESCRIPTION:Třetí kolo kurzu 14. 5. – 18. 6. 2026
URL:https://centralmost.cz/event/hrava-anglictina/2026-05-28/
CATEGORIES:Angličtina
ATTACH;FMTTYPE=image/png:https://centralmost.cz/app/uploads/sites/2/2026/04/CTR_anglictina_web-1024x1024px.png
END:VEVENT
BEGIN:VEVENT
DTSTART;TZID=Europe/Prague:20260528T160000
DTEND;TZID=Europe/Prague:20260528T170000
DTSTAMP:20260425T121711
CREATED:20260424T054558Z
LAST-MODIFIED:20260424T054558Z
UID:10000159-1779984000-1779987600@centralmost.cz
SUMMARY:Hravá angličtina
DESCRIPTION:Druhé kolo kurzu 2. 4. – 7. 5. 2026
URL:https://centralmost.cz/event/hrava-anglictina-2/2026-05-28/
CATEGORIES:Angličtina
ATTACH;FMTTYPE=image/png:https://centralmost.cz/app/uploads/sites/2/2026/04/CTR_anglictina_web-1024x1024px.png
END:VEVENT
BEGIN:VEVENT
DTSTART;TZID=Europe/Prague:20260604T160000
DTEND;TZID=Europe/Prague:20260604T170000
DTSTAMP:20260425T121711
CREATED:20260415T054517Z
LAST-MODIFIED:20260422T065051Z
UID:10000095-1780588800-1780592400@centralmost.cz
SUMMARY:Hravá Angličtina
DESCRIPTION:Třetí kolo kurzu 14. 5. – 18. 6. 2026
URL:https://centralmost.cz/event/hrava-anglictina/2026-06-04/
CATEGORIES:Angličtina
ATTACH;FMTTYPE=image/png:https://centralmost.cz/app/uploads/sites/2/2026/04/CTR_anglictina_web-1024x1024px.png
END:VEVENT
END:VCALENDAR