BEGIN:VCALENDAR
VERSION:2.0
PRODID:-//centralmost.cz - ECPv6.0.6.2//NONSGML v1.0//EN
CALSCALE:GREGORIAN
METHOD:PUBLISH
X-ORIGINAL-URL:https://centralmost.cz
X-WR-CALDESC:Události pro  centralmost.cz
REFRESH-INTERVAL;VALUE=DURATION:PT1H
X-Robots-Tag:noindex
X-PUBLISHED-TTL:PT1H
BEGIN:VTIMEZONE
TZID:Europe/Prague
BEGIN:DAYLIGHT
TZOFFSETFROM:+0100
TZOFFSETTO:+0200
TZNAME:CEST
DTSTART:20260329T010000
END:DAYLIGHT
BEGIN:STANDARD
TZOFFSETFROM:+0200
TZOFFSETTO:+0100
TZNAME:CET
DTSTART:20261025T010000
END:STANDARD
BEGIN:DAYLIGHT
TZOFFSETFROM:+0100
TZOFFSETTO:+0200
TZNAME:CEST
DTSTART:20270328T010000
END:DAYLIGHT
BEGIN:STANDARD
TZOFFSETFROM:+0200
TZOFFSETTO:+0100
TZNAME:CET
DTSTART:20271031T010000
END:STANDARD
END:VTIMEZONE
BEGIN:VEVENT
DTSTART;TZID=Europe/Prague:20260806T160000
DTEND;TZID=Europe/Prague:20260806T170000
DTSTAMP:20260424T135751
CREATED:20260424T054558Z
LAST-MODIFIED:20260424T054558Z
UID:10000169-1786032000-1786035600@centralmost.cz
SUMMARY:Hravá angličtina
DESCRIPTION:Druhé kolo kurzu 2. 4. – 7. 5. 2026
URL:https://centralmost.cz/event/hrava-anglictina-2/2026-08-06/
CATEGORIES:Angličtina
ATTACH;FMTTYPE=image/png:https://centralmost.cz/app/uploads/sites/2/2026/04/CTR_anglictina_web-1024x1024px.png
END:VEVENT
BEGIN:VEVENT
DTSTART;TZID=Europe/Prague:20260813T160000
DTEND;TZID=Europe/Prague:20260813T170000
DTSTAMP:20260424T135751
CREATED:20260424T054558Z
LAST-MODIFIED:20260424T054558Z
UID:10000170-1786636800-1786640400@centralmost.cz
SUMMARY:Hravá angličtina
DESCRIPTION:Druhé kolo kurzu 2. 4. – 7. 5. 2026
URL:https://centralmost.cz/event/hrava-anglictina-2/2026-08-13/
CATEGORIES:Angličtina
ATTACH;FMTTYPE=image/png:https://centralmost.cz/app/uploads/sites/2/2026/04/CTR_anglictina_web-1024x1024px.png
END:VEVENT
BEGIN:VEVENT
DTSTART;TZID=Europe/Prague:20260820T160000
DTEND;TZID=Europe/Prague:20260820T170000
DTSTAMP:20260424T135751
CREATED:20260424T054558Z
LAST-MODIFIED:20260424T054558Z
UID:10000171-1787241600-1787245200@centralmost.cz
SUMMARY:Hravá angličtina
DESCRIPTION:Druhé kolo kurzu 2. 4. – 7. 5. 2026
URL:https://centralmost.cz/event/hrava-anglictina-2/2026-08-20/
CATEGORIES:Angličtina
ATTACH;FMTTYPE=image/png:https://centralmost.cz/app/uploads/sites/2/2026/04/CTR_anglictina_web-1024x1024px.png
END:VEVENT
BEGIN:VEVENT
DTSTART;TZID=Europe/Prague:20260827T160000
DTEND;TZID=Europe/Prague:20260827T170000
DTSTAMP:20260424T135751
CREATED:20260424T054558Z
LAST-MODIFIED:20260424T054558Z
UID:10000172-1787846400-1787850000@centralmost.cz
SUMMARY:Hravá angličtina
DESCRIPTION:Druhé kolo kurzu 2. 4. – 7. 5. 2026
URL:https://centralmost.cz/event/hrava-anglictina-2/2026-08-27/
CATEGORIES:Angličtina
ATTACH;FMTTYPE=image/png:https://centralmost.cz/app/uploads/sites/2/2026/04/CTR_anglictina_web-1024x1024px.png
END:VEVENT
BEGIN:VEVENT
DTSTART;TZID=Europe/Prague:20260903T160000
DTEND;TZID=Europe/Prague:20260903T170000
DTSTAMP:20260424T135751
CREATED:20260424T054558Z
LAST-MODIFIED:20260424T054558Z
UID:10000173-1788451200-1788454800@centralmost.cz
SUMMARY:Hravá angličtina
DESCRIPTION:Druhé kolo kurzu 2. 4. – 7. 5. 2026
URL:https://centralmost.cz/event/hrava-anglictina-2/2026-09-03/
CATEGORIES:Angličtina
ATTACH;FMTTYPE=image/png:https://centralmost.cz/app/uploads/sites/2/2026/04/CTR_anglictina_web-1024x1024px.png
END:VEVENT
BEGIN:VEVENT
DTSTART;TZID=Europe/Prague:20260910T160000
DTEND;TZID=Europe/Prague:20260910T170000
DTSTAMP:20260424T135751
CREATED:20260424T054558Z
LAST-MODIFIED:20260424T054558Z
UID:10000174-1789056000-1789059600@centralmost.cz
SUMMARY:Hravá angličtina
DESCRIPTION:Druhé kolo kurzu 2. 4. – 7. 5. 2026
URL:https://centralmost.cz/event/hrava-anglictina-2/2026-09-10/
CATEGORIES:Angličtina
ATTACH;FMTTYPE=image/png:https://centralmost.cz/app/uploads/sites/2/2026/04/CTR_anglictina_web-1024x1024px.png
END:VEVENT
BEGIN:VEVENT
DTSTART;TZID=Europe/Prague:20260917T160000
DTEND;TZID=Europe/Prague:20260917T170000
DTSTAMP:20260424T135751
CREATED:20260424T054558Z
LAST-MODIFIED:20260424T054558Z
UID:10000175-1789660800-1789664400@centralmost.cz
SUMMARY:Hravá angličtina
DESCRIPTION:Druhé kolo kurzu 2. 4. – 7. 5. 2026
URL:https://centralmost.cz/event/hrava-anglictina-2/2026-09-17/
CATEGORIES:Angličtina
ATTACH;FMTTYPE=image/png:https://centralmost.cz/app/uploads/sites/2/2026/04/CTR_anglictina_web-1024x1024px.png
END:VEVENT
BEGIN:VEVENT
DTSTART;TZID=Europe/Prague:20260924T160000
DTEND;TZID=Europe/Prague:20260924T170000
DTSTAMP:20260424T135752
CREATED:20260424T054558Z
LAST-MODIFIED:20260424T054558Z
UID:10000176-1790265600-1790269200@centralmost.cz
SUMMARY:Hravá angličtina
DESCRIPTION:Druhé kolo kurzu 2. 4. – 7. 5. 2026
URL:https://centralmost.cz/event/hrava-anglictina-2/2026-09-24/
CATEGORIES:Angličtina
ATTACH;FMTTYPE=image/png:https://centralmost.cz/app/uploads/sites/2/2026/04/CTR_anglictina_web-1024x1024px.png
END:VEVENT
BEGIN:VEVENT
DTSTART;TZID=Europe/Prague:20261001T160000
DTEND;TZID=Europe/Prague:20261001T170000
DTSTAMP:20260424T135752
CREATED:20260424T054558Z
LAST-MODIFIED:20260424T054558Z
UID:10000177-1790870400-1790874000@centralmost.cz
SUMMARY:Hravá angličtina
DESCRIPTION:Druhé kolo kurzu 2. 4. – 7. 5. 2026
URL:https://centralmost.cz/event/hrava-anglictina-2/2026-10-01/
CATEGORIES:Angličtina
ATTACH;FMTTYPE=image/png:https://centralmost.cz/app/uploads/sites/2/2026/04/CTR_anglictina_web-1024x1024px.png
END:VEVENT
BEGIN:VEVENT
DTSTART;TZID=Europe/Prague:20261008T160000
DTEND;TZID=Europe/Prague:20261008T170000
DTSTAMP:20260424T135752
CREATED:20260424T054558Z
LAST-MODIFIED:20260424T054558Z
UID:10000178-1791475200-1791478800@centralmost.cz
SUMMARY:Hravá angličtina
DESCRIPTION:Druhé kolo kurzu 2. 4. – 7. 5. 2026
URL:https://centralmost.cz/event/hrava-anglictina-2/2026-10-08/
CATEGORIES:Angličtina
ATTACH;FMTTYPE=image/png:https://centralmost.cz/app/uploads/sites/2/2026/04/CTR_anglictina_web-1024x1024px.png
END:VEVENT
BEGIN:VEVENT
DTSTART;TZID=Europe/Prague:20261015T160000
DTEND;TZID=Europe/Prague:20261015T170000
DTSTAMP:20260424T135752
CREATED:20260424T054558Z
LAST-MODIFIED:20260424T054558Z
UID:10000179-1792080000-1792083600@centralmost.cz
SUMMARY:Hravá angličtina
DESCRIPTION:Druhé kolo kurzu 2. 4. – 7. 5. 2026
URL:https://centralmost.cz/event/hrava-anglictina-2/2026-10-15/
CATEGORIES:Angličtina
ATTACH;FMTTYPE=image/png:https://centralmost.cz/app/uploads/sites/2/2026/04/CTR_anglictina_web-1024x1024px.png
END:VEVENT
BEGIN:VEVENT
DTSTART;TZID=Europe/Prague:20261022T160000
DTEND;TZID=Europe/Prague:20261022T170000
DTSTAMP:20260424T135752
CREATED:20260424T054558Z
LAST-MODIFIED:20260424T054558Z
UID:10000180-1792684800-1792688400@centralmost.cz
SUMMARY:Hravá angličtina
DESCRIPTION:Druhé kolo kurzu 2. 4. – 7. 5. 2026
URL:https://centralmost.cz/event/hrava-anglictina-2/2026-10-22/
CATEGORIES:Angličtina
ATTACH;FMTTYPE=image/png:https://centralmost.cz/app/uploads/sites/2/2026/04/CTR_anglictina_web-1024x1024px.png
END:VEVENT
BEGIN:VEVENT
DTSTART;TZID=Europe/Prague:20261029T160000
DTEND;TZID=Europe/Prague:20261029T170000
DTSTAMP:20260424T135752
CREATED:20260424T054558Z
LAST-MODIFIED:20260424T054558Z
UID:10000181-1793289600-1793293200@centralmost.cz
SUMMARY:Hravá angličtina
DESCRIPTION:Druhé kolo kurzu 2. 4. – 7. 5. 2026
URL:https://centralmost.cz/event/hrava-anglictina-2/2026-10-29/
CATEGORIES:Angličtina
ATTACH;FMTTYPE=image/png:https://centralmost.cz/app/uploads/sites/2/2026/04/CTR_anglictina_web-1024x1024px.png
END:VEVENT
BEGIN:VEVENT
DTSTART;TZID=Europe/Prague:20261105T160000
DTEND;TZID=Europe/Prague:20261105T170000
DTSTAMP:20260424T135752
CREATED:20260424T054558Z
LAST-MODIFIED:20260424T054558Z
UID:10000182-1793894400-1793898000@centralmost.cz
SUMMARY:Hravá angličtina
DESCRIPTION:Druhé kolo kurzu 2. 4. – 7. 5. 2026
URL:https://centralmost.cz/event/hrava-anglictina-2/2026-11-05/
CATEGORIES:Angličtina
ATTACH;FMTTYPE=image/png:https://centralmost.cz/app/uploads/sites/2/2026/04/CTR_anglictina_web-1024x1024px.png
END:VEVENT
BEGIN:VEVENT
DTSTART;TZID=Europe/Prague:20261112T160000
DTEND;TZID=Europe/Prague:20261112T170000
DTSTAMP:20260424T135752
CREATED:20260424T054558Z
LAST-MODIFIED:20260424T054558Z
UID:10000183-1794499200-1794502800@centralmost.cz
SUMMARY:Hravá angličtina
DESCRIPTION:Druhé kolo kurzu 2. 4. – 7. 5. 2026
URL:https://centralmost.cz/event/hrava-anglictina-2/2026-11-12/
CATEGORIES:Angličtina
ATTACH;FMTTYPE=image/png:https://centralmost.cz/app/uploads/sites/2/2026/04/CTR_anglictina_web-1024x1024px.png
END:VEVENT
BEGIN:VEVENT
DTSTART;TZID=Europe/Prague:20261119T160000
DTEND;TZID=Europe/Prague:20261119T170000
DTSTAMP:20260424T135752
CREATED:20260424T054558Z
LAST-MODIFIED:20260424T054558Z
UID:10000184-1795104000-1795107600@centralmost.cz
SUMMARY:Hravá angličtina
DESCRIPTION:Druhé kolo kurzu 2. 4. – 7. 5. 2026
URL:https://centralmost.cz/event/hrava-anglictina-2/2026-11-19/
CATEGORIES:Angličtina
ATTACH;FMTTYPE=image/png:https://centralmost.cz/app/uploads/sites/2/2026/04/CTR_anglictina_web-1024x1024px.png
END:VEVENT
BEGIN:VEVENT
DTSTART;TZID=Europe/Prague:20261126T160000
DTEND;TZID=Europe/Prague:20261126T170000
DTSTAMP:20260424T135752
CREATED:20260424T054558Z
LAST-MODIFIED:20260424T054558Z
UID:10000185-1795708800-1795712400@centralmost.cz
SUMMARY:Hravá angličtina
DESCRIPTION:Druhé kolo kurzu 2. 4. – 7. 5. 2026
URL:https://centralmost.cz/event/hrava-anglictina-2/2026-11-26/
CATEGORIES:Angličtina
ATTACH;FMTTYPE=image/png:https://centralmost.cz/app/uploads/sites/2/2026/04/CTR_anglictina_web-1024x1024px.png
END:VEVENT
BEGIN:VEVENT
DTSTART;TZID=Europe/Prague:20261203T160000
DTEND;TZID=Europe/Prague:20261203T170000
DTSTAMP:20260424T135752
CREATED:20260424T054558Z
LAST-MODIFIED:20260424T054558Z
UID:10000186-1796313600-1796317200@centralmost.cz
SUMMARY:Hravá angličtina
DESCRIPTION:Druhé kolo kurzu 2. 4. – 7. 5. 2026
URL:https://centralmost.cz/event/hrava-anglictina-2/2026-12-03/
CATEGORIES:Angličtina
ATTACH;FMTTYPE=image/png:https://centralmost.cz/app/uploads/sites/2/2026/04/CTR_anglictina_web-1024x1024px.png
END:VEVENT
BEGIN:VEVENT
DTSTART;TZID=Europe/Prague:20261210T160000
DTEND;TZID=Europe/Prague:20261210T170000
DTSTAMP:20260424T135752
CREATED:20260424T054558Z
LAST-MODIFIED:20260424T054558Z
UID:10000187-1796918400-1796922000@centralmost.cz
SUMMARY:Hravá angličtina
DESCRIPTION:Druhé kolo kurzu 2. 4. – 7. 5. 2026
URL:https://centralmost.cz/event/hrava-anglictina-2/2026-12-10/
CATEGORIES:Angličtina
ATTACH;FMTTYPE=image/png:https://centralmost.cz/app/uploads/sites/2/2026/04/CTR_anglictina_web-1024x1024px.png
END:VEVENT
BEGIN:VEVENT
DTSTART;TZID=Europe/Prague:20261217T160000
DTEND;TZID=Europe/Prague:20261217T170000
DTSTAMP:20260424T135752
CREATED:20260424T054558Z
LAST-MODIFIED:20260424T054558Z
UID:10000188-1797523200-1797526800@centralmost.cz
SUMMARY:Hravá angličtina
DESCRIPTION:Druhé kolo kurzu 2. 4. – 7. 5. 2026
URL:https://centralmost.cz/event/hrava-anglictina-2/2026-12-17/
CATEGORIES:Angličtina
ATTACH;FMTTYPE=image/png:https://centralmost.cz/app/uploads/sites/2/2026/04/CTR_anglictina_web-1024x1024px.png
END:VEVENT
BEGIN:VEVENT
DTSTART;TZID=Europe/Prague:20261224T160000
DTEND;TZID=Europe/Prague:20261224T170000
DTSTAMP:20260424T135752
CREATED:20260424T054558Z
LAST-MODIFIED:20260424T054558Z
UID:10000189-1798128000-1798131600@centralmost.cz
SUMMARY:Hravá angličtina
DESCRIPTION:Druhé kolo kurzu 2. 4. – 7. 5. 2026
URL:https://centralmost.cz/event/hrava-anglictina-2/2026-12-24/
CATEGORIES:Angličtina
ATTACH;FMTTYPE=image/png:https://centralmost.cz/app/uploads/sites/2/2026/04/CTR_anglictina_web-1024x1024px.png
END:VEVENT
BEGIN:VEVENT
DTSTART;TZID=Europe/Prague:20261231T160000
DTEND;TZID=Europe/Prague:20261231T170000
DTSTAMP:20260424T135752
CREATED:20260424T054558Z
LAST-MODIFIED:20260424T054558Z
UID:10000190-1798732800-1798736400@centralmost.cz
SUMMARY:Hravá angličtina
DESCRIPTION:Druhé kolo kurzu 2. 4. – 7. 5. 2026
URL:https://centralmost.cz/event/hrava-anglictina-2/2026-12-31/
CATEGORIES:Angličtina
ATTACH;FMTTYPE=image/png:https://centralmost.cz/app/uploads/sites/2/2026/04/CTR_anglictina_web-1024x1024px.png
END:VEVENT
BEGIN:VEVENT
DTSTART;TZID=Europe/Prague:20270107T160000
DTEND;TZID=Europe/Prague:20270107T170000
DTSTAMP:20260424T135752
CREATED:20260424T054558Z
LAST-MODIFIED:20260424T054558Z
UID:10000191-1799337600-1799341200@centralmost.cz
SUMMARY:Hravá angličtina
DESCRIPTION:Druhé kolo kurzu 2. 4. – 7. 5. 2026
URL:https://centralmost.cz/event/hrava-anglictina-2/2027-01-07/
CATEGORIES:Angličtina
ATTACH;FMTTYPE=image/png:https://centralmost.cz/app/uploads/sites/2/2026/04/CTR_anglictina_web-1024x1024px.png
END:VEVENT
BEGIN:VEVENT
DTSTART;TZID=Europe/Prague:20270114T160000
DTEND;TZID=Europe/Prague:20270114T170000
DTSTAMP:20260424T135752
CREATED:20260424T054558Z
LAST-MODIFIED:20260424T054558Z
UID:10000192-1799942400-1799946000@centralmost.cz
SUMMARY:Hravá angličtina
DESCRIPTION:Druhé kolo kurzu 2. 4. – 7. 5. 2026
URL:https://centralmost.cz/event/hrava-anglictina-2/2027-01-14/
CATEGORIES:Angličtina
ATTACH;FMTTYPE=image/png:https://centralmost.cz/app/uploads/sites/2/2026/04/CTR_anglictina_web-1024x1024px.png
END:VEVENT
BEGIN:VEVENT
DTSTART;TZID=Europe/Prague:20270121T160000
DTEND;TZID=Europe/Prague:20270121T170000
DTSTAMP:20260424T135752
CREATED:20260424T054558Z
LAST-MODIFIED:20260424T054558Z
UID:10000193-1800547200-1800550800@centralmost.cz
SUMMARY:Hravá angličtina
DESCRIPTION:Druhé kolo kurzu 2. 4. – 7. 5. 2026
URL:https://centralmost.cz/event/hrava-anglictina-2/2027-01-21/
CATEGORIES:Angličtina
ATTACH;FMTTYPE=image/png:https://centralmost.cz/app/uploads/sites/2/2026/04/CTR_anglictina_web-1024x1024px.png
END:VEVENT
BEGIN:VEVENT
DTSTART;TZID=Europe/Prague:20270128T160000
DTEND;TZID=Europe/Prague:20270128T170000
DTSTAMP:20260424T135752
CREATED:20260424T054558Z
LAST-MODIFIED:20260424T054558Z
UID:10000194-1801152000-1801155600@centralmost.cz
SUMMARY:Hravá angličtina
DESCRIPTION:Druhé kolo kurzu 2. 4. – 7. 5. 2026
URL:https://centralmost.cz/event/hrava-anglictina-2/2027-01-28/
CATEGORIES:Angličtina
ATTACH;FMTTYPE=image/png:https://centralmost.cz/app/uploads/sites/2/2026/04/CTR_anglictina_web-1024x1024px.png
END:VEVENT
BEGIN:VEVENT
DTSTART;TZID=Europe/Prague:20270204T160000
DTEND;TZID=Europe/Prague:20270204T170000
DTSTAMP:20260424T135752
CREATED:20260424T054558Z
LAST-MODIFIED:20260424T054558Z
UID:10000195-1801756800-1801760400@centralmost.cz
SUMMARY:Hravá angličtina
DESCRIPTION:Druhé kolo kurzu 2. 4. – 7. 5. 2026
URL:https://centralmost.cz/event/hrava-anglictina-2/2027-02-04/
CATEGORIES:Angličtina
ATTACH;FMTTYPE=image/png:https://centralmost.cz/app/uploads/sites/2/2026/04/CTR_anglictina_web-1024x1024px.png
END:VEVENT
BEGIN:VEVENT
DTSTART;TZID=Europe/Prague:20270211T160000
DTEND;TZID=Europe/Prague:20270211T170000
DTSTAMP:20260424T135752
CREATED:20260424T054558Z
LAST-MODIFIED:20260424T054558Z
UID:10000196-1802361600-1802365200@centralmost.cz
SUMMARY:Hravá angličtina
DESCRIPTION:Druhé kolo kurzu 2. 4. – 7. 5. 2026
URL:https://centralmost.cz/event/hrava-anglictina-2/2027-02-11/
CATEGORIES:Angličtina
ATTACH;FMTTYPE=image/png:https://centralmost.cz/app/uploads/sites/2/2026/04/CTR_anglictina_web-1024x1024px.png
END:VEVENT
BEGIN:VEVENT
DTSTART;TZID=Europe/Prague:20270218T160000
DTEND;TZID=Europe/Prague:20270218T170000
DTSTAMP:20260424T135752
CREATED:20260424T054558Z
LAST-MODIFIED:20260424T054558Z
UID:10000197-1802966400-1802970000@centralmost.cz
SUMMARY:Hravá angličtina
DESCRIPTION:Druhé kolo kurzu 2. 4. – 7. 5. 2026
URL:https://centralmost.cz/event/hrava-anglictina-2/2027-02-18/
CATEGORIES:Angličtina
ATTACH;FMTTYPE=image/png:https://centralmost.cz/app/uploads/sites/2/2026/04/CTR_anglictina_web-1024x1024px.png
END:VEVENT
BEGIN:VEVENT
DTSTART;TZID=Europe/Prague:20270225T160000
DTEND;TZID=Europe/Prague:20270225T170000
DTSTAMP:20260424T135752
CREATED:20260424T054558Z
LAST-MODIFIED:20260424T054558Z
UID:10000198-1803571200-1803574800@centralmost.cz
SUMMARY:Hravá angličtina
DESCRIPTION:Druhé kolo kurzu 2. 4. – 7. 5. 2026
URL:https://centralmost.cz/event/hrava-anglictina-2/2027-02-25/
CATEGORIES:Angličtina
ATTACH;FMTTYPE=image/png:https://centralmost.cz/app/uploads/sites/2/2026/04/CTR_anglictina_web-1024x1024px.png
END:VEVENT
END:VCALENDAR